BEGIN:VCALENDAR
VERSION:2.0
CALSCALE:GREGORIAN
PRODID:-//Diputació de Barcelona//DibaCMS//EN
BEGIN:VEVENT
UID:10640
DTSTAMP:20260422T131411
DTSTART:20250723T190000
DTEND:20250723T200000
SUMMARY:Ple ordinari de juliol de 2025
LOCATION:
METHOD:PUBLISH
X-WR-CALNAME:ccvo@vallesoriental.cat
X-WR-TIMEZONE:Europe/Madrid
DESCRIPTION:
URI:https://www.vallesoriental.cat/2028-el-consell/lorganitzacio/ple/3337-ordres-del-dia-i-actes/ple-ordinari-de-juliol-de-2025.html
CLASS:PUBLIC
END:VEVENT
END:VCALENDAR
