BEGIN:VCALENDAR
VERSION:2.0
CALSCALE:GREGORIAN
PRODID:-//Diputació de Barcelona//DibaCMS//EN
BEGIN:VEVENT
UID:10707
DTSTAMP:20260424T043248
DTSTART:20240626T183000
DTEND:20240626T190000
SUMMARY:Comissió de Govern 
LOCATION:Av. Sant Julià, 241 08403  Granollers
METHOD:PUBLISH
X-WR-CALNAME:ccvo@vallesoriental.cat
X-WR-TIMEZONE:Europe/Madrid
DESCRIPTION:Sessió tancada

URI:https://www.vallesoriental.cat/2028-el-consell/lorganitzacio/agenda-de-la-institucio/10707-comissio-de-govern-.html
CLASS:PUBLIC
END:VEVENT
END:VCALENDAR
