BEGIN:VCALENDAR
VERSION:2.0
CALSCALE:GREGORIAN
PRODID:-//Diputació de Barcelona//DibaCMS//EN
BEGIN:VEVENT
UID:11070
DTSTAMP:20260424T145008
DTSTART:20231009T180000
DTEND:20231009T200000
SUMMARY:Networking entre restaurants i productors
LOCATION:Centre Cívic La Fàbrica de Santa Eulàlia de Ronçana 
METHOD:PUBLISH
X-WR-CALNAME:ccvo@vallesoriental.cat
X-WR-TIMEZONE:Europe/Madrid
DESCRIPTION:Organitza: Consell Comarcal 

URI:https://www.vallesoriental.cat/2028-el-consell/lorganitzacio/agenda-electes/11070-networking-entre-restaurants-i-productors.html
CLASS:PUBLIC
END:VEVENT
END:VCALENDAR
