BEGIN:VCALENDAR
VERSION:2.0
CALSCALE:GREGORIAN
PRODID:-//Diputació de Barcelona//DibaCMS//EN
BEGIN:VEVENT
UID:11427
DTSTAMP:20260426T054138
DTSTART:20231122T000000
DTEND:20331128T000000
SUMMARY:Pròrroga del conveni per a la prestació d’assistència tècnica en matèria de comptabilitat i eficiència energètica amb l’Ajuntament de Caldes de Montbui
LOCATION:
METHOD:PUBLISH
X-WR-CALNAME:ccvo@vallesoriental.cat
X-WR-TIMEZONE:Europe/Madrid
DESCRIPTION:Aprovat en el Ple de 22 de novembre  de 2023

URI:https://www.vallesoriental.cat//continguts//prorroga-del-conveni-per-a-la-prestacio-dassistencia-tecnica-en-materia-de-comptabilitat-i-eficiencia-energetica-amb-lajuntament-de-caldes-de-montbui.html
CLASS:PUBLIC
END:VEVENT
END:VCALENDAR
