BEGIN:VCALENDAR
VERSION:2.0
CALSCALE:GREGORIAN
PRODID:-//Diputació de Barcelona//DibaCMS//EN
BEGIN:VEVENT
UID:11431
DTSTAMP:20260424T015534
DTSTART:20231122T000000
DTEND:20331128T000000
SUMMARY:Pròrroga del conveni per a la prestació d’assistència tècnica en matèria de gestió energètica i d’aigua amb l’Ajuntament de Cànoves i Samalús
LOCATION:
METHOD:PUBLISH
X-WR-CALNAME:ccvo@vallesoriental.cat
X-WR-TIMEZONE:Europe/Madrid
DESCRIPTION:
URI:https://www.vallesoriental.cat//continguts//prorroga-del-conveni-per-a-la-prestacio-dassistencia-tecnica-en-materia-de-gestio-energetica-i-daigua-amb-lajuntament-de-canoves-i-samalus.html
CLASS:PUBLIC
END:VEVENT
END:VCALENDAR
