BEGIN:VCALENDAR
VERSION:2.0
CALSCALE:GREGORIAN
PRODID:-//Diputació de Barcelona//DibaCMS//EN
BEGIN:VEVENT
UID:11451
DTSTAMP:20260424T114857
DTSTART:20231122T000000
DTEND:20331129T000000
SUMMARY:Pròrroga del conveni per a la prestació d’assistència tècnica en matèria de gestió energètica i aigua amb l’Ajuntament de Santa Maria de Martorelles
LOCATION:
METHOD:PUBLISH
X-WR-CALNAME:ccvo@vallesoriental.cat
X-WR-TIMEZONE:Europe/Madrid
DESCRIPTION:Aprovat en el Ple de 22 de novembre de 2023

URI:https://www.vallesoriental.cat//continguts//prorroga-del-conveni-per-a-la-prestacio-dassistencia-tecnica-en-materia-de-gestio-energetica-i-aigua-amb-lajuntament-de-santa-maria-de-martorelles.html
CLASS:PUBLIC
END:VEVENT
END:VCALENDAR
