BEGIN:VCALENDAR
VERSION:2.0
CALSCALE:GREGORIAN
PRODID:-//Diputació de Barcelona//DibaCMS//EN
BEGIN:VEVENT
UID:11879
DTSTAMP:20260423T154811
DTSTART:20240124T000000
DTEND:20340124T000000
SUMMARY:Liquidació fitxes 45.12, 45.14 i 45.19 de la modificació de l’addenda de pròrroga per a l’any 2021 en relació amb Conveni de col·laboració per a la gestió i la prestació dels serveis social per al període 2016-2019, amb diversos ajuntaments
LOCATION:
METHOD:PUBLISH
X-WR-CALNAME:ccvo@vallesoriental.cat
X-WR-TIMEZONE:Europe/Madrid
DESCRIPTION:Aprovat per la Comissió de Govern del 24 de gener de 2024.

URI:https://www.vallesoriental.cat//continguts//liquidacio-fitxes-4512-4514-i-4519-de-la-modificacio-de-laddenda-de-prorroga-per-a-lany-2021-en-relacio-amb-conveni-de-collaboracio-per-a-la-gestio-i-la-prestacio-dels-serveis-social-per-al-periode-2016-2019-amb-diversos-ajuntaments.html
CLASS:PUBLIC
END:VEVENT
END:VCALENDAR
