BEGIN:VCALENDAR
VERSION:2.0
CALSCALE:GREGORIAN
PRODID:-//Diputació de Barcelona//DibaCMS//EN
BEGIN:VEVENT
UID:12423
DTSTAMP:20260424T004039
DTSTART:20240311T090000
DTEND:20240311T100000
SUMMARY:Reunió amb Ajuntament de Vilanova del Vallès
LOCATION:Telemàtica 
METHOD:PUBLISH
X-WR-CALNAME:ccvo@vallesoriental.cat
X-WR-TIMEZONE:Europe/Madrid
DESCRIPTION:
URI:https://www.vallesoriental.cat/2028-el-consell/lorganitzacio/agenda-electes/reunio-amb-ajuntament-de-vilanova-del-valles.html
CLASS:PUBLIC
END:VEVENT
END:VCALENDAR
