BEGIN:VCALENDAR
VERSION:2.0
CALSCALE:GREGORIAN
PRODID:-//Diputació de Barcelona//DibaCMS//EN
BEGIN:VEVENT
UID:13416
DTSTAMP:20260423T133033
DTSTART:20241022T100000
DTEND:20241022T130000
SUMMARY:Fòrum de Consells FP de Catalunya
LOCATION:Can Marfà Gènere de Punt - Museu de Mataró: Passatge de Can Marfà, 1  
METHOD:PUBLISH
X-WR-CALNAME:ccvo@vallesoriental.cat
X-WR-TIMEZONE:Europe/Madrid
DESCRIPTION:
URI:https://www.vallesoriental.cat/2028-el-consell/lorganitzacio/agenda-electes/forum-de-consells-fp-de-catalunya.html
CLASS:PUBLIC
END:VEVENT
END:VCALENDAR
