BEGIN:VCALENDAR
VERSION:2.0
CALSCALE:GREGORIAN
PRODID:-//Diputació de Barcelona//DibaCMS//EN
BEGIN:VEVENT
UID:13567
DTSTAMP:20260422T074005
DTSTART:20241113T110000
DTEND:20241113T130000
SUMMARY:Curs per a usuaris de la Xarxa LismiVO 
LOCATION:Centre de formació i recursos (C. Nou, 34 de Montmeló) 
METHOD:PUBLISH
X-WR-CALNAME:ccvo@vallesoriental.cat
X-WR-TIMEZONE:Europe/Madrid
DESCRIPTION:
URI:https://www.vallesoriental.cat/2028-el-consell/lorganitzacio/agenda-de-la-institucio/13567-curs-per-a-usuaris-de-la-xarxa-lismivo-.html
CLASS:PUBLIC
END:VEVENT
END:VCALENDAR
