BEGIN:VCALENDAR
VERSION:2.0
CALSCALE:GREGORIAN
PRODID:-//Diputació de Barcelona//DibaCMS//EN
BEGIN:VEVENT
UID:13573
DTSTAMP:20260425T030746
DTSTART:20241205T090000
DTEND:20241205T110000
SUMMARY:Curs per a professionals de la Xarxa LismiVO
LOCATION:Telemàtica 
METHOD:PUBLISH
X-WR-CALNAME:ccvo@vallesoriental.cat
X-WR-TIMEZONE:Europe/Madrid
DESCRIPTION:
URI:https://www.vallesoriental.cat/2028-el-consell/lorganitzacio/agenda-de-la-institucio/13573-curs-per-a-professionals-de-la-xarxa-lismivo.html
CLASS:PUBLIC
END:VEVENT
END:VCALENDAR
