BEGIN:VCALENDAR
VERSION:2.0
CALSCALE:GREGORIAN
PRODID:-//Diputació de Barcelona//DibaCMS//EN
BEGIN:VEVENT
UID:13648
DTSTAMP:20260423T074510
DTSTART:20241106T180000
DTEND:20241106T200000
SUMMARY:Tallers 'Masculinitats diverses' dedicats a la Paternitat Positiva a Aiguafreda
LOCATION:
METHOD:PUBLISH
X-WR-CALNAME:ccvo@vallesoriental.cat
X-WR-TIMEZONE:Europe/Madrid
DESCRIPTION:
URI:https://www.vallesoriental.cat/2028-el-consell/lorganitzacio/agenda-de-la-institucio/tallersmasculinitats-diversesdedicats-a-la-paternitat-positiva-a-aiguafreda.html
CLASS:PUBLIC
END:VEVENT
END:VCALENDAR
