BEGIN:VCALENDAR
VERSION:2.0
CALSCALE:GREGORIAN
PRODID:-//Diputació de Barcelona//DibaCMS//EN
BEGIN:VEVENT
UID:13999
DTSTAMP:20260420T093732
DTSTART:20250130T170000
DTEND:20250130T183000
SUMMARY:reunió de seguiment del Comitè Estratègic del Pla Específic de Mobilitat del Vallès (PEMV)
LOCATION:Departament de Territori, Habitatge i Transició Ecològica, av. Josep Tarradellas, 2-6, Sala de Mapes, 7a planta. 
METHOD:PUBLISH
X-WR-CALNAME:ccvo@vallesoriental.cat
X-WR-TIMEZONE:Europe/Madrid
DESCRIPTION:
URI:https://www.vallesoriental.cat/2028-el-consell/lorganitzacio/agenda-electes/reunio-de-seguiment-del-comite-estrategic-del-pla-especific-de-mobilitat-del-valles-pemv.html
CLASS:PUBLIC
END:VEVENT
END:VCALENDAR
