BEGIN:VCALENDAR
VERSION:2.0
CALSCALE:GREGORIAN
PRODID:-//Diputació de Barcelona//DibaCMS//EN
BEGIN:VEVENT
UID:14229
DTSTAMP:20260419T144258
DTSTART:20240417T170000
DTEND:20240417T173000
SUMMARY:Comissió Informativa 
LOCATION:Telemàtica 
METHOD:PUBLISH
X-WR-CALNAME:ccvo@vallesoriental.cat
X-WR-TIMEZONE:Europe/Madrid
DESCRIPTION:
URI:https://www.vallesoriental.cat/2028-el-consell/lorganitzacio/comissio-informativa/2873-calendari-/14229-comissio-informativa-.html
CLASS:PUBLIC
END:VEVENT
END:VCALENDAR
