BEGIN:VCALENDAR
VERSION:2.0
CALSCALE:GREGORIAN
PRODID:-//Diputació de Barcelona//DibaCMS//EN
BEGIN:VEVENT
UID:14258
DTSTAMP:20260419T160653
DTSTART:20260916T170000
DTEND:20260916T173000
SUMMARY:Comissió Informativa  
LOCATION:Telemàtica 
METHOD:PUBLISH
X-WR-CALNAME:ccvo@vallesoriental.cat
X-WR-TIMEZONE:Europe/Madrid
DESCRIPTION:
URI:https://www.vallesoriental.cat/2028-el-consell/lorganitzacio/comissio-informativa/2873-calendari-/14258-comissio-informativa-.html
CLASS:PUBLIC
END:VEVENT
END:VCALENDAR
