BEGIN:VCALENDAR
VERSION:2.0
CALSCALE:GREGORIAN
PRODID:-//Diputació de Barcelona//DibaCMS//EN
BEGIN:VEVENT
UID:14271
DTSTAMP:20260425T003855
DTSTART:20250220T193000
DTEND:20250220T203000
SUMMARY:Presentació Marca Ciutat la Garriga
LOCATION:Can Luna (La Garriga) 
METHOD:PUBLISH
X-WR-CALNAME:ccvo@vallesoriental.cat
X-WR-TIMEZONE:Europe/Madrid
DESCRIPTION:
URI:https://www.vallesoriental.cat/2028-el-consell/lorganitzacio/agenda-electes/presentacio-marca-ciutat-la-garriga.html
CLASS:PUBLIC
END:VEVENT
END:VCALENDAR
