BEGIN:VCALENDAR
VERSION:2.0
CALSCALE:GREGORIAN
PRODID:-//Diputació de Barcelona//DibaCMS//EN
BEGIN:VEVENT
UID:14327
DTSTAMP:20260422T132312
DTSTART:20250306T110000
DTEND:20250306T130000
SUMMARY:Assistència a l’acte de presentació del PUOSC 2025-29
LOCATION:Espai Corberó (C/ Església 100, Esplugues de Llobregat) 
METHOD:PUBLISH
X-WR-CALNAME:ccvo@vallesoriental.cat
X-WR-TIMEZONE:Europe/Madrid
DESCRIPTION:
URI:https://www.vallesoriental.cat/2028-el-consell/lorganitzacio/agenda-electes/assistencia-a-lacte-de-presentacio-del-puosc-2025-29.html
CLASS:PUBLIC
END:VEVENT
END:VCALENDAR
