BEGIN:VCALENDAR
VERSION:2.0
CALSCALE:GREGORIAN
PRODID:-//Diputació de Barcelona//DibaCMS//EN
BEGIN:VEVENT
UID:15418
DTSTAMP:20260422T230643
DTSTART:20251202T103000
DTEND:20251202T130000
SUMMARY:Taller d'eficiència hídrica a les empreses
LOCATION:Camí Antic de Vic, 10 (Corró d'Avall) 08520 Les Franqueses del Vallès
METHOD:PUBLISH
X-WR-CALNAME:ccvo@vallesoriental.cat
X-WR-TIMEZONE:Europe/Madrid
DESCRIPTION:
URI:https://www.vallesoriental.cat/2028-el-consell/lorganitzacio/agenda-de-la-institucio/taller-deficiencia-hidrica-a-les-empreses.html
CLASS:PUBLIC
END:VEVENT
END:VCALENDAR
