BEGIN:VCALENDAR
VERSION:2.0
CALSCALE:GREGORIAN
PRODID:-//Diputació de Barcelona//DibaCMS//EN
BEGIN:VEVENT
UID:15846
DTSTAMP:20260419T160557
DTSTART:20260421T140000
DTEND:20260421T153000
SUMMARY:Dinar/reunió Consell Comarcal - Consorci de Residus
LOCATION:Hotel Augusta Vallès 
METHOD:PUBLISH
X-WR-CALNAME:ccvo@vallesoriental.cat
X-WR-TIMEZONE:Europe/Madrid
DESCRIPTION:
URI:https://www.vallesoriental.cat/2028-el-consell/lorganitzacio/agenda-electes/dinarreunio-consell-comarcal-consorci-de-residus.html
CLASS:PUBLIC
END:VEVENT
END:VCALENDAR
