BEGIN:VCALENDAR
VERSION:2.0
CALSCALE:GREGORIAN
PRODID:-//Diputació de Barcelona//DibaCMS//EN
BEGIN:VEVENT
UID:15848
DTSTAMP:20260419T155626
DTSTART:20260422T163000
DTEND:20260422T171500
SUMMARY:Reunió Tribunal VI edició Premi Talent Jove VO
LOCATION:Telemàtica 
METHOD:PUBLISH
X-WR-CALNAME:ccvo@vallesoriental.cat
X-WR-TIMEZONE:Europe/Madrid
DESCRIPTION:
URI:https://www.vallesoriental.cat/2028-el-consell/lorganitzacio/agenda-electes/reunio-tribunal-vi-edicio-premi-talent-jove-vo.html
CLASS:PUBLIC
END:VEVENT
END:VCALENDAR
