BEGIN:VCALENDAR
VERSION:2.0
CALSCALE:GREGORIAN
PRODID:-//Diputació de Barcelona//DibaCMS//EN
BEGIN:VEVENT
UID:15868
DTSTAMP:20260422T190126
DTSTART:20260429T093000
DTEND:20260429T143000
SUMMARY:Sessió pràctica Pla estratègic de turisme per a tothom
LOCATION:carrer Barcelona, 8 08401 Canovelles
METHOD:PUBLISH
X-WR-CALNAME:ccvo@vallesoriental.cat
X-WR-TIMEZONE:Europe/Madrid
DESCRIPTION:
URI:https://www.vallesoriental.cat/2028-el-consell/lorganitzacio/agenda-de-la-institucio/sessio-practica-pla-estrategic-de-turisme-per-a-tothom.html
CLASS:PUBLIC
END:VEVENT
END:VCALENDAR
