BEGIN:VCALENDAR
VERSION:2.0
CALSCALE:GREGORIAN
PRODID:-//Diputació de Barcelona//DibaCMS//EN
BEGIN:VEVENT
UID:2954
DTSTAMP:20260423T125029
DTSTART:20220216T170000
DTEND:20220216T180000
SUMMARY:Comissió Informativa 2/2022 
LOCATION:
METHOD:PUBLISH
X-WR-CALNAME:ccvo@vallesoriental.cat
X-WR-TIMEZONE:Europe/Madrid
DESCRIPTION:(Sessió no pública) 

URI:https://www.vallesoriental.cat/2028-el-consell/lorganitzacio/agenda-de-la-institucio/comissio-informativa-22022-.html
CLASS:PUBLIC
END:VEVENT
END:VCALENDAR
