BEGIN:VCALENDAR
VERSION:2.0
CALSCALE:GREGORIAN
PRODID:-//Diputació de Barcelona//DibaCMS//EN
BEGIN:VEVENT
UID:3008
DTSTAMP:20260423T051549
DTSTART:20230222T170000
DTEND:20230222T180000
SUMMARY:Comissió de Govern 2/2023 
LOCATION:
METHOD:PUBLISH
X-WR-CALNAME:ccvo@vallesoriental.cat
X-WR-TIMEZONE:Europe/Madrid
DESCRIPTION: (Sessió no pública)

URI:https://www.vallesoriental.cat/2028-el-consell/lorganitzacio/agenda-de-la-institucio/comissio-de-govern-22023-.html
CLASS:PUBLIC
END:VEVENT
END:VCALENDAR
