BEGIN:VCALENDAR
VERSION:2.0
CALSCALE:GREGORIAN
PRODID:-//Diputació de Barcelona//DibaCMS//EN
BEGIN:VEVENT
UID:4996
DTSTAMP:20260426T034214
DTSTART:20230318T100000
DTEND:20230318T150000
SUMMARY:XI Fira de l'Oli 
LOCATION:Bigues i Riells del Fai 
METHOD:PUBLISH
X-WR-CALNAME:ccvo@vallesoriental.cat
X-WR-TIMEZONE:Europe/Madrid
DESCRIPTION:
URI:https://www.vallesoriental.cat/2028-el-consell/lorganitzacio/agenda-de-la-institucio/xi-fira-de-loli-.html
CLASS:PUBLIC
END:VEVENT
END:VCALENDAR
